BEGIN:VCALENDAR
VERSION:2.0
PRODID:-//OmniMagnetCalendar//EN
BEGIN:VEVENT
DTSTAMP:20190625T195740Z
STATUS:CONFIRMED
UID:psuchicago.org1140
DTSTART:20260711T120000Z
DTEND:20260718T120000Z
LOCATION:Soldier Field, Chicago, IL,
SUMMARY:Big Ten 10k Race and 5k Run/Walk
DESCRIPTION:Represent Penn State in the BTN Big 10k Race and 5k Run/Walk on July 11th!
BEGIN:VALARM
TRIGGER:-PT15M
ACTION:DISPLAY
END:VALARM
TRANSP:OPAQUE
END:VEVENT
END:VCALENDAR
