BEGIN:VCALENDAR
VERSION:2.0
PRODID:-//OmniMagnetCalendar//EN
BEGIN:VEVENT
DTSTAMP:20190625T195740Z
STATUS:CONFIRMED
UID:psuchicago.org591
DTSTART:20260519T230000Z
DTEND:
LOCATION:
SUMMARY:Come Play! Chicago Sport and Social Beach Volleyball
DESCRIPTION:Beach Volleyball at North Ave! 6 x 6 players, regardless of skill or age level, getting a socially competitive game on in the sand! It starts Tuesday, May 19th, and runs through at least June 30th
BEGIN:VALARM
TRIGGER:-PT15M
ACTION:DISPLAY
END:VALARM
TRANSP:OPAQUE
END:VEVENT
END:VCALENDAR
